BEGIN:VCALENDAR
VERSION:2.0
PRODID:icalendar-ruby
CALSCALE:GREGORIAN
METHOD:PUBLISH
BEGIN:VEVENT
DTSTAMP:20260422T140336Z
UID:5-1422519@progresschurch.com
DTSTART:20261101T150000Z
DTEND:20261101T160000Z
CLASS:PUBLIC
CREATED:20260422T074045
DESCRIPTION:Sunday Worship
LAST-MODIFIED:20260422T074045
LOCATION:Progress Church
SUMMARY:Sunday Worship
URL;VALUE=URI:https://progresschurch.ca/events/sunday-worship/2026-11-01
END:VEVENT
END:VCALENDAR
